Workbook

Sheet overview
B1: ADJUST YELLOW CELLS ONLY
B2: The calculator enables comparison of up to four speed pedelecs. Default is slanted towards Stromer (most sold brand) in 2019. Adjust values in calculation tab per your situation (brand, accessories…).
B3: Note this calculator is provisional due to inflation, Speed pedelec purchase cost changes, battery replacement cost changes, potential legislatory changes towards insurance etc. Feel free to adjust the highlighted cells in the 'calculations' tab per the info you gathered more recently to get a better indication of cost per year.
B4: INPUT
B5: commuting distance one-way (km) | C5: 35 | D5: 15 - 35km range ideally
B6: work schedule (%) | C6: 1 | D6: % worked per contract. Adjust downward to simulate impact of work days not cycled, depending on employer rules
B7: amount of years to bike replacement | C7: 3.5 | D7: Note a maintenance every 5000km is included in the calculation as well as periodic battery replacement. The Pedelec frame should last for 4+ years.
B9: Employer commute allowance per km (€) | C9: 0.24 | D9: allowance per km calculated on two-way trip
B10: Extra incentive per day commuted by bicycle (€) | C10: 0.5 | D10: e.g. if agreement between employer and Bike To Work or some other incentive per day cycled
B11: battery replacement when just enough juice for one-way + 'x'km | C11: 5 | D11: default value 5km. 15% spare juice recommended to ensure you don’t run out of battery when there's a hefty headwind
B12: resell value used battery (% of cost remaining Wh capacity) | C12: 0.6 | D12: default value 50%. can be used to simulate cost of revitalization
B13: maintenance after 'x' km | C13: 5000 | D13: default value 5000ml. 5000km recommended by shop. You could increase to 10000km to simulate cost if you replace chain, breaks and tires every 5000km yourself.
B15: OUTPUT
B16: speed pedelec choice | C16: Stromer ST3 983Wh full option | D16: Stromer ST3 983Wh basic | E16: Stromer ST1 814Wh basic | F16: Bosch mid-engine type
B17: cost per year (negative means profit) | C17: =-calculations!C18 -> 16.241714 | D17: =-calculations!D18 -> -180.61543 | E17: =-calculations!E18 -> -459.59542 | F17: =-calculations!F18 -> -1335.4726
B18: average commute time one-way (minutes, includes 5' to change) | C18: =(C5/calculations!C49*60)+5 -> 63.333333 | D18: =(C5/calculations!D49*60)+5 -> 65 | E18: =(C5/calculations!E49*60)+5 -> 70.625 | F18: =(C5/calculations!F49*60)+5 -> 80
B19: average commute time per year (hours) | C19: =((C18*calculations!$C$7*calculations!$C$8*12*2)/60) -> 473.48 | D19: =((D18*calculations!$C$7*calculations!$C$8*12*2)/60) -> 485.94 | E19: =((E18*calculations!$C$7*calculations!$C$8*12*2)/60) -> 527.9925 | F19: =((F18*calculations!$C$7*calculations!$C$8*12*2)/60) -> 598.08

Sheet calculations
C1: IN
B2: Commute distance one-way | C2: =overview!C5 -> 35
B3: Commute distance per day | C3: =C2*2 -> 70
B4: km/year | C4: =C3*C7*12*C8 -> 15699.6
B5: allowance €/km | C5: =overview!C9 -> 0.24
B6: work schedule | C6: =overview!C6 -> 1
B7: #days/month | C7: =21*C6 -> 21
B8: vacation correction | C8: 0.89 | D8: in essence a value to take the amount of vacation days you take in a given year into account. 1 = you take no vacation, 0.9 = 10% of your work days you took vacation (approx. 25 days based on 21 day/month schedule).
B9: €/month | C9: =C7*C3*C5*C8 -> 313.992
B10: €/year | C10: =C9*12 -> 3767.904
B11: extra incentive value €/day | C11: =overview!C10 -> 0.5
B12: extra incentive €/year | C12: =overview!C10*C7*C8*12 -> 112.14
B13: # years before purchasing new Pedelec | C13: =overview!C7 -> 3.5
B14: total in | C14: =(C10+C12)*C13 -> 13580.154
C15: Stromer ST3 983Wh full option | D15: Stromer ST3 983Wh basic | E15: Stromer ST1 814Wh basic | F15: Bosch mid-engine type
B16: total out | C16: =C29+((C32-C42)*C39)+(C44*C45)+(C47*C13) -> 13637 | D16: =D29+((D32-D42)*D39)+(D44*D45)+(C13*D47) -> 12948 | E16: =E29+((E32-E42)*E39)+(E44*E45)+(E47*C13) -> 11971.57 | F16: =F29+((F32-F42)*F39)+(F44*F45)+(C13*F47) -> 8906
B17: balance | C17: =$C$14-C16 -> -56.846 | D17: =$C$14-D16 -> 632.154 | E17: =$C$14-E16 -> 1608.584 | F17: =$C$14-F16 -> 4674.154
B18: balance / year | C18: =C17/$C$13 -> -16.241714 | D18: =D17/$C$13 -> 180.61543 | E18: =E17/$C$13 -> 459.59542 | F18: =F17/$C$13 -> 1335.4726
C20: OUT
B21: Speed Pedelec purchase | C21: Stromer ST3 983Wh full option | D21: Stromer ST3 983Wh basic | E21: Stromer ST1 basic 814Wh | F21: Bosch mid-engine type
B22: € purchase | C22: 7330 | D22: 7330 | E22: 5650 | F22: 4000 | G22: Note: prices are indicative and vary depending on exact model and specs.
B23: bodyfloat kinekt 2.1 saddle suspension | C23: 299 | D23: 0 | E23: 0 | F23: 0
B24: bags | C24: 250 | D24: 250 | E24: 0 | F24: 0
B25: folding lock | C25: 80 | D25: 80 | E25: 80 | F25: 130
B26: mirror | C26: 40 | D26: 0 | E26: 0 | F26: 0
B27: extra charger € | C27: 249 | D27: 249 | E27: 249 | F27: 200
B28: helmet and clothing | C28: 350 | D28: 0 | E28: 0 | F28: 0
B29: total | C29: =SUM(C22:C28) -> 8598 | D29: =SUM(D22:D28) -> 7909 | E29: =SUM(E22:E28) -> 5979 | F29: =SUM(F22:F28) -> 4330
B30: Speed Pedelec maintenance
B31: battery capacity | C31: 983Wh | D31: 983Wh | E31: 814Wh | F31: 500Wh
B32: battery € | C32: 1990 | D32: 1990 | E32: 1660 | F32: 660
B33: battery km per full charge, max support | C33: 60 | D33: 60 | E33: =D33*(814/983) -> 49.684639 | F33: 45
B34: battery km minimal support to replacement | C34: =$C$2+overview!C11 -> 40 | D34: =$C$2+overview!C11 -> 40 | E34: =$C$2+overview!C11 -> 40 | F34: =$C$2+overview!C11 -> 40
B35: battery loss to minimal support | C35: =(C33-C34)/C33 -> 0.33333333 | D35: =(D33-D34)/D33 -> 0.33333333 | E35: =(E33-E34)/E33 -> 0.19492219 | F35: =(F33-F34)/F33 -> 0.11111111
B36: battery loss per 10000km | C36: 0.15 | D36: 0.15 | E36: 0.15 | F36: 0.15
B37: factor | C37: =(C35/C36) -> 2.2222222 | D37: =(D35/D36) -> 2.2222222 | E37: =(E35/E36) -> 1.2994813 | F37: =(F35/F36) -> 0.74074074
B38: battery lifespan to replacement km | C38: =10000*C37 -> 22222.222 | D38: =10000*D37 -> 22222.222 | E38: =10000*E37 -> 12994.813 | F38: =10000*F37 -> 7407.4074
B39: # of replacement batteries needed | C39: =ROUNDUP(((($C$4*$C$13)/C38)-1),0) -> 2 | D39: =ROUNDUP(((($C$4*$C$13)/D38)-1),0) -> 2 | E39: =ROUNDUP(((($C$4*$C$13)/E38)-1),0) -> 4 | F39: =ROUNDUP(((($C$4*$C$13)/F38)-1),0) -> 7 | G39: Batteries can sometimes also be 'revitalized'. Lacking details, the calculation assumes the battery is sold and a brand new one purchased.
B41: battery residual value % | C41: =(1-C35)*overview!C12 -> 0.4 | D41: =(1-D35)*overview!C12 -> 0.4 | E41: =(1-E35)*overview!C12 -> 0.48304668 | F41: =(1-F35)*overview!C12 -> 0.53333333
B42: battery residual value € | C42: =C32*C41 -> 796 | D42: =D32*D41 -> 796 | E42: =E32*E41 -> 801.85749 | F42: =F32*F41 -> 352
...
